Workbook

Sheet Definitions
A1: Definitions
A5: Personnel | B5: Cost of salary and benefits for staff performing directly for the award. This would be the cost of the staff performing the specific services provided under the award terms. This section is for staff paid and issued a W-2. Contract vendors issued a 1099 go in "Contractual" below.
A10: Commodities | B10: Cost of “things” used directly in or by the award. Examples would be supplies, special forms, computer components (mice, carrying bags, docking stations, keyboards, etc.), program related publications, etc., used directly for carrying out the award. (Do not include equipment/furniture/fixtures/systems items that are over your agency capitalization level and will be in use beyond a year, as they have a separate data entry line.) Items less than the capitalization amount but with large dollars costs should be listed in a separate line under Commodities, with a description entered. (Example - computer costing $1,000 if agency capitalization policy is $1,500)
A17: Training | B17: Cost of trainings for staff development.
A19: Travel | B19: Hotel, ground transportation, mileage, meal expense while traveling for business; airfare
A21: Direct Equipment (includes Furniture/Fixtures/Systems) | B21: Items that are capital items as defined by your agency capitalization policy and are part of the deliverables requested for the award. Possible examples would be servers, accounting system modules, fire alarm system, vehicles, etc. Follow generally accepted accounting principles in adding in the “cost to get it up and running” if applicable. For instance, if a consultant is paid in the installation of the system, such as an accounting system, that is included in the cost here. If a consultant is paid after it is up and running, that would go on the consultant line. To include amounts in this category for a program/service/project, you had to have previously submitted your agency capitalization policy. Items less than agency capitalization limits should be on another appropriate line in the proper category, most likely in "Direct Commodities." Do not include in this category items costing less than your capitalization policy limit(s)!
A25: Contractual | B25: Cost of services provided by others (non-employee) that are directly identifiable to the award. Examples would be the cost of subscription service; paying ongoing outside IT assistance; or the cost of doctor paid contractually to participate in a clinic. You will need to split these costs into three categories. "Consultants" tell or teach you how to do the work yourself or set up a plan for you to carry out. "Contractual" is for when the work is being done for you. "Contractual (doc/clinical)" is for when the agency contracts with doctors/clinicians to deliver services. (If they are on your payroll and receive W-2's, the expenses go in the personnel category, not in this category.) Separate lines for data entry have been provided.
A29: Direct Administrative costs | B29: Enter only DIRECT administrative costs here. Direct insurance would be something specific to the program/service/project; other general agency liability insurance would be part of the Administrative Management and General (Indirect Costs). Occupancy related to a direct service staff allocated based on that person's square footage of office space would be Direct Admin Cost. Generally, occupancy for your financial or human resources staff would be part of Administrative Management and General (Indirect Costs). See below regarding the Indirect Costs.
A33: Administrative Management & General – Indirect Costs | B33: This would be your agency’s indirect costs allocated to this award, set at a 15% or below rate. This is typically a portion of the cost of running the agency overall. It includes items that cannot be directly identifiable to any particular program/service/project. A general example would be human resources related costs. Your agency plan may indicate such costs are allocated based on the number of employees in the program/service/project or based on the direct payroll for that program/service/project. Care must be taken not to allocate a portion of any amounts already covered by MHB in direct awards.

Sheet Revenue
A1: Enter Agency Name: | C1: [Example Agency] | G1: E | H1: Fill in your agency name & proposal name
A2: Program Proposal Name: | C2: [Example Program] | G2: E
A3: Revenue
A4: Line # | B4: Account Title | C4: Program Year 7 (PY7) | D4: Program Year 8 (PY8) | E4: Program Year 9 (PY9) | F4: PY7-9
A7: State Revenue (includes federal coming through IL)
A8: 1 | B8: HFS - Grant | F8: =IF(SUM(C8:E8)=0,"",SUM(C8:E8))
A9: 2 | B9: HFS - FFS | F9: =IF(SUM(C9:E9)=0,"",SUM(C9:E9))
A10: 3 | B10: Medicaid (via state) | F10: =IF(SUM(C10:E10)=0,"",SUM(C10:E10))
A11: 4 | B11: DHS/DMH - Grant | F11: =IF(SUM(C11:E11)=0,"",SUM(C11:E11))
A12: 5 | B12: DHS/DMH - FFS | F12: =IF(SUM(C12:E12)=0,"",SUM(C12:E12))
A13: 6 | B13: DHS/SUPR (DASA) - Grant | F13: =IF(SUM(C13:E13)=0,"",SUM(C13:E13))
A14: 7 | B14: DHS/SUPR (DASA) - FFS | F14: =IF(SUM(C14:E14)=0,"",SUM(C14:E14))
A15: 8 | B15: DHS/DD - Grant | F15: =IF(SUM(C15:E15)=0,"",SUM(C15:E15))
A16: 9 | B16: DHS/DD - FFS | F16: =IF(SUM(C16:E16)=0,"",SUM(C16:E16))
A17: 10 | B17: Veterans (state or federal pass-through) | F17: =IF(SUM(C17:E17)=0,"",SUM(C17:E17))
A18: 11 | B18: IL Department on Aging | F18: =IF(SUM(C18:E18)=0,"",SUM(C18:E18))
A19: 12 | B19: Other State Revenue (Enter description here) | F19: =IF(SUM(C19:E19)=0,"",SUM(C19:E19))
A20: 13 | B20: Other State Revenue (Enter description here) | F20: =IF(SUM(C20:E20)=0,"",SUM(C20:E20))
A21: Subtotal State Revenue: | C21: =SUBTOTAL(9,C8:C20) -> 0 | D21: =SUBTOTAL(9,D8:D20) -> 0 | E21: =SUBTOTAL(9,E8:E20) -> 0 | F21: =SUBTOTAL(9,F8:F20) -> 0
A22: Federal Revenue (received directly from feds)
A23: 14 | B23: Medicare | F23: =IF(SUM(C23:E23)=0,"",SUM(C23:E23))
A24: 15 | B24: Housing & Urban Development (HUD) | F24: =IF(SUM(C24:E24)=0,"",SUM(C24:E24))
A25: 16 | B25: Veterans Affairs | F25: =IF(SUM(C25:E25)=0,"",SUM(C25:E25))
A26: 17 | B26: Other Federal Revenue (Enter description here) | F26: =IF(SUM(C26:E26)=0,"",SUM(C26:E26))
A27: 18 | B27: Other Federal Revenue (Enter description here) | F27: =IF(SUM(C27:E27)=0,"",SUM(C27:E27))
A28: Subtotal Federal Revenue: | C28: =SUBTOTAL(9,C23:C27) -> 0 | D28: =SUBTOTAL(9,D23:D27) -> 0 | E28: =SUBTOTAL(9,E23:E27) -> 0 | F28: =SUBTOTAL(9,F23:F27) -> 0
A29: Other Revenue
A30: 19 | B30: Fundraising/Contributions | F30: =IF(SUM(C30:E30)=0,"",SUM(C30:E30))
A31: 19a | B31: United Way | F31: =IF(SUM(C31:E31)=0,"",SUM(C31:E31))
A32: 20 | B32: Local Government | F32: =IF(SUM(C32:E32)=0,"",SUM(C32:E32))
A33: 21 | B33: Client Fees | F33: =IF(SUM(C33:E33)=0,"",SUM(C33:E33))
A34: 22 | B34: MCO/Managed Care | F34: =IF(SUM(C34:E34)=0,"",SUM(C34:E34))
A35: 23 | B35: Private Insurance/Third Party | F35: =IF(SUM(C35:E35)=0,"",SUM(C35:E35))
A36: 24 | B36: Other Agency Revenue (Interest & Other Misc Revenue) | F36: =IF(SUM(C36:E36)=0,"",SUM(C36:E36))
A37: Subtotal Other Revenue: | C37: =SUBTOTAL(9,C30:C36) -> 0 | D37: =SUBTOTAL(9,D30:D36) -> 0 | E37: =SUBTOTAL(9,E30:E36) -> 0 | F37: =SUM(C37:E37) -> 0
A38: 1/2 Cent Sales Tax Revenue
A39: 25 | B39: Program Years 7 - 9 Amount Requested | F39: =IF(SUM(C39:E39)=0,"",SUM(C39:E39)) | G39: E | H39: Fill in the green shaded cells with your request amounts
A40: Subtotal Sales Tax Revenue: | C40: =SUBTOTAL(9,C39) -> 0 | D40: =SUBTOTAL(9,D39) -> 0 | E40: =SUBTOTAL(9,E39) -> 0 | F40: =SUM(C40:E40) -> 0
A41: 26 | B41: Total Revenues | C41: =SUBTOTAL(9,C8:C40) -> 0 | D41: =SUBTOTAL(9,D8:D40) -> 0 | E41: =SUBTOTAL(9,E8:E40) -> 0 | F41: =SUM(C41:E41) -> 0
B43: Mental Health Board Use Only:
...

Sheet Expenses
A1: Enter Agency Name: | C1: =Revenue!C1 -> [Example Agency] | G1: E | H1: These will autofill based on entries in the 'revenue' tab
A2: Program Proposal Name: | C2: =Revenue!C2 -> [Example Program] | G2: E
A3: Expenses
A4: Line # | B4: Account Title | C4: Program Year 7 (PY7) | D4: Program Year 8 (PY8) | E4: Program Year 9 (PY9) | F4: PY7-9 Totals
A7: Direct Program Expense
A8: Direct Personnel
A9: 1 | B9: Direct Personnel Salaries (reportable on W-2) | F9: =IF(SUM(C9:E9)=0,"",SUM(C9:E9))
A10: 2 | B10: Direct Personnel Tax/Fringe Benefits | F10: =IF(SUM(C10:E10)=0,"",SUM(C10:E10))
A11: 3 | B11: Other Direct Personnel Expense (Enter description here) | F11: =IF(SUM(C11:E11)=0,"",SUM(C11:E11))
A12: 4 | B12: Other Direct Personnel Expense (Enter description here) | F12: =IF(SUM(C12:E12)=0,"",SUM(C12:E12))
A13: Subtotal Direct Personnel: | C13: =SUBTOTAL(9,C9:C12) -> 0 | D13: =SUBTOTAL(9,D9:D12) -> 0 | E13: =SUBTOTAL(9,E9:E12) -> 0 | F13: =SUBTOTAL(9,F9:F12) -> 0
A14: Direct Commodities
A15: 5 | B15: Direct Supplies | F15: =IF(SUM(C15:E15)=0,"",SUM(C15:E15))
A16: 6 | B16: Direct Information Technology (items) | F16: =IF(SUM(C16:E16)=0,"",SUM(C16:E16))
A17: 7 | B17: Other Direct Commodities (Enter description here) | F17: =IF(SUM(C17:E17)=0,"",SUM(C17:E17))
A18: 8 | B18: Other Direct Commodities (Enter description here) | F18: =IF(SUM(C18:E18)=0,"",SUM(C18:E18))
A19: 9 | B19: Other Direct Commodities (Enter description here) | F19: =IF(SUM(C19:E19)=0,"",SUM(C19:E19))
A20: 10 | B20: Other Direct Commodities (Enter description here) | F20: =IF(SUM(C20:E20)=0,"",SUM(C20:E20))
A21: Subtotal Direct Commodities: | C21: =SUBTOTAL(9,C15:C20) -> 0 | D21: =SUBTOTAL(9,D15:D20) -> 0 | E21: =SUBTOTAL(9,E15:E20) -> 0 | F21: =SUBTOTAL(9,F15:F20) -> 0
A22: Direct Training & Education (for staff development)
A23: 11 | B23: Direct Training and Education (for staff development) | F23: =IF(SUM(C23:E23)=0,"",SUM(C23:E23))
A24: Subtotal Direct Training & Education: | C24: =SUBTOTAL(9,C23) -> 0 | D24: =SUBTOTAL(9,D23) -> 0 | E24: =SUBTOTAL(9,E23) -> 0 | F24: =SUBTOTAL(9,F23) -> 0
A25: Direct Travel
A26: 12 | B26: Direct Travel | F26: =IF(SUM(C26:E26)=0,"",SUM(C26:E26))
A27: Subtotal Direct Travel: | C27: =SUBTOTAL(9,C26) -> 0 | D27: =SUBTOTAL(9,D26) -> 0 | E27: =SUBTOTAL(9,E26) -> 0 | F27: =SUBTOTAL(9,F26) -> 0
A28: Direct Program Equipment
A29: 13 | B29: Direct Equipment [Enter desc. & agency capitalization level here] | F29: =IF(SUM(C29:E29)=0,"",SUM(C29:E29))
A30: 14 | B30: Direct Equipment [Enter desc. & agency capitalization level here] | F30: =IF(SUM(C30:E30)=0,"",SUM(C30:E30))
A31: 15 | B31: Direct Equipment [Enter desc. & agency capitalization level here] | F31: =IF(SUM(C31:E31)=0,"",SUM(C31:E31))
A32: Subtotal Direct Program Equipment: | C32: =SUBTOTAL(9,C29:C31) -> 0 | D32: =SUBTOTAL(9,D29:D30) -> 0 | E32: =SUBTOTAL(9,E29:E31) -> 0 | F32: =SUBTOTAL(9,F29:F31) -> 0
A33: Direct Contractual
A34: 16 | B34: Consultants | F34: =IF(SUM(C34:E34)=0,"",SUM(C34:E34))
A35: 17 | B35: Contractual - contracted professionals (Docs, clinical) | F35: =IF(SUM(C35:E35)=0,"",SUM(C35:E35))
A36: 18 | B36: Contractual | F36: =IF(SUM(C36:E36)=0,"",SUM(C36:E36))
A37: Subtotal Direct Contractual: | C37: =SUBTOTAL(9,C34:C36) -> 0 | D37: =SUBTOTAL(9,D34:D36) -> 0 | E37: =SUBTOTAL(9,E34:E36) -> 0 | F37: =SUBTOTAL(9,F34:F36) -> 0
A38: Direct Administrative Costs
A39: 19 | B39: Occupancy (for direct program space) | F39: =IF(SUM(C39:E39)=0,"",SUM(C39:E39))
A40: 20 | B40: Other Direct Admin (Enter description here) | F40: =IF(SUM(C40:E40)=0,"",SUM(C40:E40))
A41: 21 | B41: Other Direct Admin (Enter description here) | F41: =IF(SUM(C41:E41)=0,"",SUM(C41:E41))
A42: Subtotal Direct Administrative Cost: | C42: =SUBTOTAL(9,C39:C41) -> 0 | D42: =SUBTOTAL(9,D39:D41) -> 0 | E42: =SUBTOTAL(9,E39:E41) -> 0 | F42: =SUBTOTAL(9,F39:F41) -> 0
...
